BEGIN:VCALENDAR
VERSION:2.0
PRODID:spatie/icalendar-generator
DESCRIPTION:Veranstaltungen von Landfrauen Hemslingen
X-WR-CALDESC:Veranstaltungen von Landfrauen Hemslingen
REFRESH-INTERVAL;VALUE=DURATION:PT1440M
X-PUBLISHED-TTL:PT1440M
BEGIN:VTIMEZONE
TZID:Europe/Berlin
BEGIN:DAYLIGHT
DTSTART:20260329T020000Z
TZOFFSETFROM:+0100
TZOFFSETTO:+0200
END:DAYLIGHT
BEGIN:STANDARD
DTSTART:20261025T030000Z
TZOFFSETFROM:+0200
TZOFFSETTO:+0100
END:STANDARD
BEGIN:DAYLIGHT
DTSTART:20270328T020000Z
TZOFFSETFROM:+0100
TZOFFSETTO:+0200
END:DAYLIGHT
END:VTIMEZONE
BEGIN:VTIMEZONE
TZID:UTC
BEGIN:STANDARD
DTSTART:20250729T230433Z
TZOFFSETFROM:+0000
TZOFFSETTO:+0000
END:STANDARD
END:VTIMEZONE
BEGIN:VEVENT
UID:282-224
DTSTAMP:20260425T230433Z
SUMMARY:Stricken und Handarbeiten                 14.10. &amp;amp\; 28.10. &amp;amp
 \; 18.11.2026
LOCATION:
ORGANIZER;CN=sylvia:MAILTO:sylviamuenkel@ewe.net
DTSTART;TZID=Europe/Berlin:20261014T193000
DTEND;TZID=Europe/Berlin:20261014T203000
X-ALT-DESC;FMTTYPE=TEXT/HTML:Wir treffen uns\, Zuhause bei einer LandFrau\,
  in gemütlicher Runde. Es kann gestrickt werden\, aber auch jede andere H
 andarbeit ist herzlich willkommen. Der Treffpunkt wird noch bekanntgegeben
 . Ideal um von \"alten Hasen\" z.B. das Sockenstricken zu lernen. Start 19
 :30 Uhr\, Ende 21:45 Uhr Jede bringt ihr Strick- oder Handarbeitsmaterial 
 selber mit. Anmeldung: eine Woche vorher&amp;hellip\;
CATEGORIES:Hemslingen
URL;VALUE=URI:https://landfrauen-hemslingen.de/mc-events/stricken-und-handa
 rbeiten-14-10-28-10-18-11-2026/
METHOD:PUBLISH
END:VEVENT
END:VCALENDAR