BEGIN:VCALENDAR
VERSION:2.0
PRODID:spatie/icalendar-generator
DESCRIPTION:Veranstaltungen von Landfrauen Hemslingen
X-WR-CALDESC:Veranstaltungen von Landfrauen Hemslingen
REFRESH-INTERVAL;VALUE=DURATION:PT1440M
X-PUBLISHED-TTL:PT1440M
BEGIN:VTIMEZONE
TZID:Europe/Berlin
BEGIN:STANDARD
DTSTART:20251026T030000Z
TZOFFSETFROM:+0200
TZOFFSETTO:+0100
END:STANDARD
BEGIN:DAYLIGHT
DTSTART:20260329T020000Z
TZOFFSETFROM:+0100
TZOFFSETTO:+0200
END:DAYLIGHT
BEGIN:STANDARD
DTSTART:20261025T030000Z
TZOFFSETFROM:+0200
TZOFFSETTO:+0100
END:STANDARD
END:VTIMEZONE
BEGIN:VTIMEZONE
TZID:UTC
BEGIN:STANDARD
DTSTART:20250729T230253Z
TZOFFSETFROM:+0000
TZOFFSETTO:+0000
END:STANDARD
END:VTIMEZONE
BEGIN:VEVENT
UID:275-218
DTSTAMP:20260425T230253Z
SUMMARY:Spargel- und Weingenuss Hof Oelkers
LOCATION:
ORGANIZER;CN=sylvia:MAILTO:sylviamuenkel@ewe.net
DTSTART;TZID=Europe/Berlin:20260607T110000
DTEND;TZID=Europe/Berlin:20260607T120000
X-ALT-DESC;FMTTYPE=TEXT/HTML:Wir erhalten eine Führung über die Felder\, 
 erfahren hinter den Kulissen\, wie das Gemüse angebaut\, geerntet und wei
 terverarbeitet wird. Im Anschluss wartet ein leckeres Spargelbuffet mit pa
 ssenden Weinen auf uns. Abfahrt in Fahrgemeinschaften: 11:00 Uhr Start in 
 Wenzendorf: 12:00 Uhr Anmeldung bis zum 15.05.2026 unter Tel. 0162 6994258
 \, vorzugsweise über WhatsApp. Kosten: 49\,50€\, Gast+5€\, Überweisu
 ng&amp;hellip\;
CATEGORIES:Hemslingen
URL;VALUE=URI:https://landfrauen-hemslingen.de/mc-events/spargel-und-weinge
 nuss-hof-oelkers/
METHOD:PUBLISH
END:VEVENT
END:VCALENDAR