BEGIN:VCALENDAR
VERSION:2.0
PRODID:spatie/icalendar-generator
DESCRIPTION:Veranstaltungen von Landfrauen Hemslingen
X-WR-CALDESC:Veranstaltungen von Landfrauen Hemslingen
REFRESH-INTERVAL;VALUE=DURATION:PT1440M
X-PUBLISHED-TTL:PT1440M
BEGIN:VTIMEZONE
TZID:Europe/Berlin
BEGIN:DAYLIGHT
DTSTART:20250330T020000Z
TZOFFSETFROM:+0100
TZOFFSETTO:+0200
END:DAYLIGHT
BEGIN:STANDARD
DTSTART:20251026T030000Z
TZOFFSETFROM:+0200
TZOFFSETTO:+0100
END:STANDARD
BEGIN:DAYLIGHT
DTSTART:20260329T020000Z
TZOFFSETFROM:+0100
TZOFFSETTO:+0200
END:DAYLIGHT
END:VTIMEZONE
BEGIN:VTIMEZONE
TZID:UTC
BEGIN:STANDARD
DTSTART:20250729T172657Z
TZOFFSETFROM:+0000
TZOFFSETTO:+0000
END:STANDARD
END:VTIMEZONE
BEGIN:VEVENT
UID:111-94
DTSTAMP:20260425T172657Z
SUMMARY:Halbtagesfahrt Weihnachtsmarkt Schloss Eldingen
LOCATION:
ORGANIZER;CN=sylvia:MAILTO:sylviamuenkel@ewe.net
DTSTART;TZID=Europe/Berlin:20251030T123000
DTEND;TZID=Europe/Berlin:20251030T183000
X-ALT-DESC;FMTTYPE=TEXT/HTML:Fahrt zu den Winterträumen auf Schloss Elding
 en. Kostenbeitrag: Eintritt Schloss Eldingen 15\,00 € plus Busfahrt. Gä
 ste plus 5\,00 € Start: Abfahrt 12:30 Uhr Abfahrtorte:         
  Hemslingen Mühlenturm Söhlingen Schützenhaus Brockel Kirche Ende: Rüc
 kfahrt ca. 18:00 Uhr Anmeldung bis 16.10.2025 Anmeldung bis zum 16.10.2025
  unter Telefon 0162 6994258 (gerne WhatsApp)
CATEGORIES:Hemslingen
URL;VALUE=URI:https://landfrauen-hemslingen.de/mc-events/halbtagesfahrt-wei
 hnachtsmarkt-schloss-eldingen/
METHOD:PUBLISH
END:VEVENT
END:VCALENDAR